BEGIN:VCALENDAR
VERSION:2.0
PRODID:-//communityofcarend.com//NONSGML kigkonsult.se iCalcreator 2.30.10/
 /
CALSCALE:GREGORIAN
METHOD:PUBLISH
UID:ec91542f-30cc-470a-9af8-2688b69d57f3
X-WR-CALDESC:Low impact exercise class
X-WR-RELCALID:d448b719d81bd4ff5025861eff4a1399
X-WR-TIMEZONE:America/Chicago
BEGIN:VTIMEZONE
TZID:America/Chicago
BEGIN:STANDARD
TZNAME:CST
DTSTART:20301103T020000
TZOFFSETFROM:-0500
TZOFFSETTO:-0600
RDATE:20311102T020000
RDATE:20321107T020000
END:STANDARD
BEGIN:DAYLIGHT
TZNAME:CDT
DTSTART:20310309T020000
TZOFFSETFROM:-0600
TZOFFSETTO:-0500
RDATE:20320314T020000
END:DAYLIGHT
END:VTIMEZONE
BEGIN:VEVENT
UID:5beaf4d3-1a3b-47c3-bd51-4b263e55c580
DTSTAMP:20260423T084230Z
DESCRIPTION:Low impact exercise class
DTSTART;TZID=America/Chicago:20310630T103000
DTEND;TZID=America/Chicago:20310630T113000
LOCATION:Kindred City Hall
SUMMARY:Kindred Bone Builders
END:VEVENT
END:VCALENDAR
