BEGIN:VCALENDAR
VERSION:2.0
PRODID:-//communityofcarend.com//NONSGML kigkonsult.se iCalcreator 2.30.10/
 /
CALSCALE:GREGORIAN
METHOD:PUBLISH
UID:62765b97-2169-4896-aaae-30ddca475eb5
X-WR-CALDESC:Bone Builder Exercise Class
X-WR-RELCALID:4846d8a90dc96c3f1b1b0be4afb41ee0
X-WR-TIMEZONE:America/Chicago
BEGIN:VTIMEZONE
TZID:America/Chicago
BEGIN:STANDARD
TZNAME:CST
DTSTART:20301103T020000
TZOFFSETFROM:-0500
TZOFFSETTO:-0600
RDATE:20311102T020000
RDATE:20321107T020000
END:STANDARD
BEGIN:DAYLIGHT
TZNAME:CDT
DTSTART:20310309T020000
TZOFFSETFROM:-0600
TZOFFSETTO:-0500
RDATE:20320314T020000
END:DAYLIGHT
END:VTIMEZONE
BEGIN:VEVENT
UID:852c5224-6d73-426f-b4a9-955dcee77fe3
DTSTAMP:20260423T084424Z
DESCRIPTION:Bone Builder Exercise Class
DTSTART;TZID=America/Chicago:20310630T100000
DTEND;TZID=America/Chicago:20310630T110000
LOCATION:Horace Senior Center
SUMMARY:Horace Bone Builders
END:VEVENT
END:VCALENDAR
