BEGIN:VCALENDAR
VERSION:2.0
PRODID:-//communityofcarend.com//NONSGML kigkonsult.se iCalcreator 2.30.10/
 /
CALSCALE:GREGORIAN
METHOD:PUBLISH
UID:71a4bbea-c94f-4840-b0c1-eed9e6720f41
X-WR-CALDESC:Low-impact exercise classes.
X-WR-RELCALID:cadacfbb4ab56ed47a61c8e75d8e58c1
X-WR-TIMEZONE:America/Chicago
BEGIN:VTIMEZONE
TZID:America/Chicago
BEGIN:STANDARD
TZNAME:CST
DTSTART:20301103T020000
TZOFFSETFROM:-0500
TZOFFSETTO:-0600
RDATE:20311102T020000
RDATE:20321107T020000
END:STANDARD
BEGIN:DAYLIGHT
TZNAME:CDT
DTSTART:20310309T020000
TZOFFSETFROM:-0600
TZOFFSETTO:-0500
RDATE:20320314T020000
END:DAYLIGHT
END:VTIMEZONE
BEGIN:VEVENT
UID:cb228af4-0776-4b05-b795-d4471b5577bf
DTSTAMP:20260423T084159Z
DESCRIPTION:Low-impact exercise classes.
DTSTART;TZID=America/Chicago:20310627T103000
DTEND;TZID=America/Chicago:20310627T113000
LOCATION:Kindred City Hall
SUMMARY:Kindred Bone Builders
END:VEVENT
END:VCALENDAR
