BEGIN:VCALENDAR
VERSION:2.0
PRODID:-//communityofcarend.com//NONSGML kigkonsult.se iCalcreator 2.30.10/
 /
CALSCALE:GREGORIAN
METHOD:PUBLISH
UID:7a561ac6-06a1-4a8d-b197-d1518a767d1d
X-WR-CALDESC:Low-impact exercise classes.
X-WR-RELCALID:b196a3241cd00ffd2fd3e42ccdc3a6da
X-WR-TIMEZONE:America/Chicago
BEGIN:VTIMEZONE
TZID:America/Chicago
BEGIN:STANDARD
TZNAME:CST
DTSTART:20301103T020000
TZOFFSETFROM:-0500
TZOFFSETTO:-0600
RDATE:20311102T020000
RDATE:20321107T020000
END:STANDARD
BEGIN:DAYLIGHT
TZNAME:CDT
DTSTART:20310309T020000
TZOFFSETFROM:-0600
TZOFFSETTO:-0500
RDATE:20320314T020000
END:DAYLIGHT
END:VTIMEZONE
BEGIN:VEVENT
UID:a920f5a6-777e-41e0-a2eb-192a49f4560e
DTSTAMP:20260423T084256Z
DESCRIPTION:Low-impact exercise classes.
DTSTART;TZID=America/Chicago:20310620T103000
DTEND;TZID=America/Chicago:20310620T113000
LOCATION:Kindred City Hall
SUMMARY:Kindred Bone Builders
END:VEVENT
END:VCALENDAR
