BEGIN:VCALENDAR
VERSION:2.0
PRODID:-//communityofcarend.com//NONSGML kigkonsult.se iCalcreator 2.30.10/
 /
CALSCALE:GREGORIAN
METHOD:PUBLISH
UID:bf34d3f2-81e4-4b1c-989d-a8bd5ee3a872
X-WR-CALDESC:Bone Builder Exercise Class
X-WR-RELCALID:ed91921181fe3859923cb771a4744afd
X-WR-TIMEZONE:America/Chicago
BEGIN:VTIMEZONE
TZID:America/Chicago
BEGIN:STANDARD
TZNAME:CST
DTSTART:20301103T020000
TZOFFSETFROM:-0500
TZOFFSETTO:-0600
RDATE:20311102T020000
RDATE:20321107T020000
END:STANDARD
BEGIN:DAYLIGHT
TZNAME:CDT
DTSTART:20310309T020000
TZOFFSETFROM:-0600
TZOFFSETTO:-0500
RDATE:20320314T020000
END:DAYLIGHT
END:VTIMEZONE
BEGIN:VEVENT
UID:1278bde1-073e-42a3-8baf-790f46235021
DTSTAMP:20260423T084057Z
DESCRIPTION:Bone Builder Exercise Class
DTSTART;TZID=America/Chicago:20310616T100000
DTEND;TZID=America/Chicago:20310616T110000
LOCATION:Horace Senior Center
SUMMARY:Horace Bone Builders
END:VEVENT
END:VCALENDAR
