BEGIN:VCALENDAR
VERSION:2.0
PRODID:-//communityofcarend.com//NONSGML kigkonsult.se iCalcreator 2.30.10/
 /
CALSCALE:GREGORIAN
METHOD:PUBLISH
UID:230da75a-4d23-4ab4-b66e-61fcab28235f
X-WR-CALDESC:Bone Builder Exercise Class
X-WR-RELCALID:c3ef11f69d629169f1fc719676f92bdc
X-WR-TIMEZONE:America/Chicago
BEGIN:VTIMEZONE
TZID:America/Chicago
BEGIN:STANDARD
TZNAME:CST
DTSTART:20301103T020000
TZOFFSETFROM:-0500
TZOFFSETTO:-0600
RDATE:20311102T020000
RDATE:20321107T020000
END:STANDARD
BEGIN:DAYLIGHT
TZNAME:CDT
DTSTART:20310309T020000
TZOFFSETFROM:-0600
TZOFFSETTO:-0500
RDATE:20320314T020000
END:DAYLIGHT
END:VTIMEZONE
BEGIN:VEVENT
UID:24f42fa9-b67b-4827-b357-fbdcb0110df0
DTSTAMP:20260423T084429Z
DESCRIPTION:Bone Builder Exercise Class
DTSTART;TZID=America/Chicago:20310602T100000
DTEND;TZID=America/Chicago:20310602T110000
LOCATION:Horace Senior Center
SUMMARY:Horace Bone Builders
END:VEVENT
END:VCALENDAR
