BEGIN:VCALENDAR
VERSION:2.0
PRODID:-//communityofcarend.com//NONSGML kigkonsult.se iCalcreator 2.30.10/
 /
CALSCALE:GREGORIAN
METHOD:PUBLISH
UID:4d464883-000b-4528-8634-438895182a8a
X-WR-CALDESC:
X-WR-RELCALID:74a679bcf926d382136dc5b95478b766
X-WR-TIMEZONE:America/Chicago
BEGIN:VTIMEZONE
TZID:America/Chicago
BEGIN:STANDARD
TZNAME:CST
DTSTART:20301103T020000
TZOFFSETFROM:-0500
TZOFFSETTO:-0600
RDATE:20311102T020000
RDATE:20321107T020000
END:STANDARD
BEGIN:DAYLIGHT
TZNAME:CDT
DTSTART:20310309T020000
TZOFFSETFROM:-0600
TZOFFSETTO:-0500
RDATE:20320314T020000
END:DAYLIGHT
END:VTIMEZONE
BEGIN:VEVENT
UID:35aad77b-9ea5-4b5c-87bf-16ac20941c77
DTSTAMP:20260423T071218Z
DESCRIPTION:
DTSTART;TZID=America/Chicago:20310529T093000
DTEND;TZID=America/Chicago:20310529T103000
LOCATION:Davenport School
SUMMARY:Davenport Bone Builders
END:VEVENT
END:VCALENDAR
