BEGIN:VCALENDAR
VERSION:2.0
PRODID:-//communityofcarend.com//NONSGML kigkonsult.se iCalcreator 2.30.10/
 /
CALSCALE:GREGORIAN
METHOD:PUBLISH
UID:0a6f4bc2-5afa-4d7f-ab44-498d615b6608
X-WR-CALDESC:Low-impact exercise classes.
X-WR-RELCALID:3dbc773694ba47aaadb34af10fe3e117
X-WR-TIMEZONE:America/Chicago
BEGIN:VTIMEZONE
TZID:America/Chicago
BEGIN:STANDARD
TZNAME:CST
DTSTART:20301103T020000
TZOFFSETFROM:-0500
TZOFFSETTO:-0600
RDATE:20311102T020000
RDATE:20321107T020000
END:STANDARD
BEGIN:DAYLIGHT
TZNAME:CDT
DTSTART:20310309T020000
TZOFFSETFROM:-0600
TZOFFSETTO:-0500
RDATE:20320314T020000
END:DAYLIGHT
END:VTIMEZONE
BEGIN:VEVENT
UID:3685686e-0bb6-46dd-ba8e-4fc7dc0ad51f
DTSTAMP:20260423T070708Z
DESCRIPTION:Low-impact exercise classes.
DTSTART;TZID=America/Chicago:20310523T103000
DTEND;TZID=America/Chicago:20310523T113000
LOCATION:Kindred City Hall
SUMMARY:Kindred Bone Builders
END:VEVENT
END:VCALENDAR
