BEGIN:VCALENDAR
VERSION:2.0
PRODID:-//communityofcarend.com//NONSGML kigkonsult.se iCalcreator 2.30.10/
 /
CALSCALE:GREGORIAN
METHOD:PUBLISH
UID:7c190ed8-58e2-48c4-8285-6840cc826f53
X-WR-CALDESC:Bone Builder Exercise Class
X-WR-RELCALID:f10bb58bd6812447d6b2cb7496c44de8
X-WR-TIMEZONE:America/Chicago
BEGIN:VTIMEZONE
TZID:America/Chicago
BEGIN:STANDARD
TZNAME:CST
DTSTART:20301103T020000
TZOFFSETFROM:-0500
TZOFFSETTO:-0600
RDATE:20311102T020000
RDATE:20321107T020000
END:STANDARD
BEGIN:DAYLIGHT
TZNAME:CDT
DTSTART:20310309T020000
TZOFFSETFROM:-0600
TZOFFSETTO:-0500
RDATE:20320314T020000
END:DAYLIGHT
END:VTIMEZONE
BEGIN:VEVENT
UID:1081c894-8e47-402d-9a71-dae130317682
DTSTAMP:20260423T070613Z
DESCRIPTION:Bone Builder Exercise Class
DTSTART;TZID=America/Chicago:20310522T100000
DTEND;TZID=America/Chicago:20310522T110000
LOCATION:Horace Senior Center
SUMMARY:Horace Bone Builders
END:VEVENT
END:VCALENDAR
