BEGIN:VCALENDAR
VERSION:2.0
PRODID:-//communityofcarend.com//NONSGML kigkonsult.se iCalcreator 2.30.10/
 /
CALSCALE:GREGORIAN
METHOD:PUBLISH
UID:7ab858f9-1174-4bf6-a00e-c87b948e843f
X-WR-CALDESC:Low impact exercise class
X-WR-RELCALID:de8f105a1a9388bb1dce9057e70e55c2
X-WR-TIMEZONE:America/Chicago
BEGIN:VTIMEZONE
TZID:America/Chicago
BEGIN:STANDARD
TZNAME:CST
DTSTART:20301103T020000
TZOFFSETFROM:-0500
TZOFFSETTO:-0600
RDATE:20311102T020000
RDATE:20321107T020000
END:STANDARD
BEGIN:DAYLIGHT
TZNAME:CDT
DTSTART:20310309T020000
TZOFFSETFROM:-0600
TZOFFSETTO:-0500
RDATE:20320314T020000
END:DAYLIGHT
END:VTIMEZONE
BEGIN:VEVENT
UID:d77aecfa-bd28-4b4f-a62f-b676bbfdda9c
DTSTAMP:20260423T070817Z
DESCRIPTION:Low impact exercise class
DTSTART;TZID=America/Chicago:20310512T103000
DTEND;TZID=America/Chicago:20310512T113000
LOCATION:Kindred City Hall
SUMMARY:Kindred Bone Builders
END:VEVENT
END:VCALENDAR
