BEGIN:VCALENDAR
VERSION:2.0
PRODID:-//communityofcarend.com//NONSGML kigkonsult.se iCalcreator 2.30.10/
 /
CALSCALE:GREGORIAN
METHOD:PUBLISH
UID:799f291e-8c80-46df-88a7-8baf1539a150
X-WR-CALDESC:Low-impact exercise classes.
X-WR-RELCALID:da5c761c7a894856aed4bcbf14c3bd11
X-WR-TIMEZONE:America/Chicago
BEGIN:VTIMEZONE
TZID:America/Chicago
BEGIN:STANDARD
TZNAME:CST
DTSTART:20301103T020000
TZOFFSETFROM:-0500
TZOFFSETTO:-0600
RDATE:20311102T020000
END:STANDARD
BEGIN:DAYLIGHT
TZNAME:CDT
DTSTART:20310309T020000
TZOFFSETFROM:-0600
TZOFFSETTO:-0500
RDATE:20320314T020000
END:DAYLIGHT
END:VTIMEZONE
BEGIN:VEVENT
UID:8357261d-47c9-4242-944b-052dd68a1080
DTSTAMP:20260423T070727Z
DESCRIPTION:Low-impact exercise classes.
DTSTART;TZID=America/Chicago:20310502T103000
DTEND;TZID=America/Chicago:20310502T113000
LOCATION:Kindred City Hall
SUMMARY:Kindred Bone Builders
END:VEVENT
END:VCALENDAR
