BEGIN:VCALENDAR
VERSION:2.0
PRODID:-//communityofcarend.com//NONSGML kigkonsult.se iCalcreator 2.30.10/
 /
CALSCALE:GREGORIAN
METHOD:PUBLISH
UID:2d22b6cb-d58f-4195-9a00-e434964c5f46
X-WR-CALDESC:Bone Builder Exercise Class
X-WR-RELCALID:342a3722831445b2356ed6bf98a99754
X-WR-TIMEZONE:America/Chicago
BEGIN:VTIMEZONE
TZID:America/Chicago
BEGIN:STANDARD
TZNAME:CST
DTSTART:20301103T020000
TZOFFSETFROM:-0500
TZOFFSETTO:-0600
RDATE:20311102T020000
END:STANDARD
BEGIN:DAYLIGHT
TZNAME:CDT
DTSTART:20310309T020000
TZOFFSETFROM:-0600
TZOFFSETTO:-0500
RDATE:20320314T020000
END:DAYLIGHT
END:VTIMEZONE
BEGIN:VEVENT
UID:2bc7a7a6-13ae-491a-ac06-b1921629d2c3
DTSTAMP:20260423T070948Z
DESCRIPTION:Bone Builder Exercise Class
DTSTART;TZID=America/Chicago:20310501T100000
DTEND;TZID=America/Chicago:20310501T110000
LOCATION:Horace Senior Center
SUMMARY:Horace Bone Builders
END:VEVENT
END:VCALENDAR
