BEGIN:VCALENDAR
VERSION:2.0
PRODID:-//communityofcarend.com//NONSGML kigkonsult.se iCalcreator 2.30.10/
 /
CALSCALE:GREGORIAN
METHOD:PUBLISH
UID:73165985-2bfa-4437-ada9-5d83803844f3
X-WR-CALDESC:Low-impact exercise classes.
X-WR-RELCALID:142ba2ae0e8b6ec989c53b54f02320dc
X-WR-TIMEZONE:America/Chicago
BEGIN:VTIMEZONE
TZID:America/Chicago
BEGIN:STANDARD
TZNAME:CST
DTSTART:20301103T020000
TZOFFSETFROM:-0500
TZOFFSETTO:-0600
RDATE:20311102T020000
END:STANDARD
BEGIN:DAYLIGHT
TZNAME:CDT
DTSTART:20310309T020000
TZOFFSETFROM:-0600
TZOFFSETTO:-0500
RDATE:20320314T020000
END:DAYLIGHT
END:VTIMEZONE
BEGIN:VEVENT
UID:cbebfea6-206f-4530-b6ad-738b6e5b3fb3
DTSTAMP:20260423T053557Z
DESCRIPTION:Low-impact exercise classes.
DTSTART;TZID=America/Chicago:20310425T103000
DTEND;TZID=America/Chicago:20310425T113000
LOCATION:Kindred City Hall
SUMMARY:Kindred Bone Builders
END:VEVENT
END:VCALENDAR
