BEGIN:VCALENDAR
VERSION:2.0
PRODID:-//communityofcarend.com//NONSGML kigkonsult.se iCalcreator 2.30.10/
 /
CALSCALE:GREGORIAN
METHOD:PUBLISH
UID:8c3f791c-c7e3-4eca-9cfb-2411a2f5ae8f
X-WR-CALDESC:Bone Builder Exercise Class
X-WR-RELCALID:1db5b00c8c67b21f099e17912d7a0ef1
X-WR-TIMEZONE:America/Chicago
BEGIN:VTIMEZONE
TZID:America/Chicago
BEGIN:STANDARD
TZNAME:CST
DTSTART:20301103T020000
TZOFFSETFROM:-0500
TZOFFSETTO:-0600
RDATE:20311102T020000
END:STANDARD
BEGIN:DAYLIGHT
TZNAME:CDT
DTSTART:20310309T020000
TZOFFSETFROM:-0600
TZOFFSETTO:-0500
RDATE:20320314T020000
END:DAYLIGHT
END:VTIMEZONE
BEGIN:VEVENT
UID:3ed11bfc-f15c-482f-b40e-eb5a407cf45a
DTSTAMP:20260423T053708Z
DESCRIPTION:Bone Builder Exercise Class
DTSTART;TZID=America/Chicago:20310424T100000
DTEND;TZID=America/Chicago:20310424T110000
LOCATION:Horace Senior Center
SUMMARY:Horace Bone Builders
END:VEVENT
END:VCALENDAR
