BEGIN:VCALENDAR
VERSION:2.0
PRODID:-//communityofcarend.com//NONSGML kigkonsult.se iCalcreator 2.30.10/
 /
CALSCALE:GREGORIAN
METHOD:PUBLISH
UID:32f265c9-b03d-4b01-9562-d6d35d85995a
X-WR-CALDESC:Low impact exercise class
X-WR-RELCALID:7e939559e34de500d204b99e6001a04d
X-WR-TIMEZONE:America/Chicago
BEGIN:VTIMEZONE
TZID:America/Chicago
BEGIN:STANDARD
TZNAME:CST
DTSTART:20301103T020000
TZOFFSETFROM:-0500
TZOFFSETTO:-0600
RDATE:20311102T020000
END:STANDARD
BEGIN:DAYLIGHT
TZNAME:CDT
DTSTART:20310309T020000
TZOFFSETFROM:-0600
TZOFFSETTO:-0500
RDATE:20320314T020000
END:DAYLIGHT
END:VTIMEZONE
BEGIN:VEVENT
UID:e72f1d4b-1a8e-47c9-8cf3-75136d87eb69
DTSTAMP:20260423T053224Z
DESCRIPTION:Low impact exercise class
DTSTART;TZID=America/Chicago:20310421T103000
DTEND;TZID=America/Chicago:20310421T113000
LOCATION:Kindred City Hall
SUMMARY:Kindred Bone Builders
END:VEVENT
END:VCALENDAR
