BEGIN:VCALENDAR
VERSION:2.0
PRODID:-//communityofcarend.com//NONSGML kigkonsult.se iCalcreator 2.30.10/
 /
CALSCALE:GREGORIAN
METHOD:PUBLISH
UID:363cb8d2-620c-4ef6-bd19-57582d2ffd91
X-WR-CALDESC:Low-impact exercise classes.
X-WR-RELCALID:67126f75f6d088deae987c5f58cdd562
X-WR-TIMEZONE:America/Chicago
BEGIN:VTIMEZONE
TZID:America/Chicago
BEGIN:STANDARD
TZNAME:CST
DTSTART:20301103T020000
TZOFFSETFROM:-0500
TZOFFSETTO:-0600
RDATE:20311102T020000
END:STANDARD
BEGIN:DAYLIGHT
TZNAME:CDT
DTSTART:20310309T020000
TZOFFSETFROM:-0600
TZOFFSETTO:-0500
RDATE:20320314T020000
END:DAYLIGHT
END:VTIMEZONE
BEGIN:VEVENT
UID:b252b5a1-2d9d-4df6-b350-ce2dedc940b3
DTSTAMP:20260423T053609Z
DESCRIPTION:Low-impact exercise classes.
DTSTART;TZID=America/Chicago:20310418T103000
DTEND;TZID=America/Chicago:20310418T113000
LOCATION:Kindred City Hall
SUMMARY:Kindred Bone Builders
END:VEVENT
END:VCALENDAR
