BEGIN:VCALENDAR
VERSION:2.0
PRODID:-//communityofcarend.com//NONSGML kigkonsult.se iCalcreator 2.30.10/
 /
CALSCALE:GREGORIAN
METHOD:PUBLISH
UID:c1ce3b76-3b5c-4d07-b633-cbbe497df4ca
X-WR-CALDESC:Bone Builder Exercise Class
X-WR-RELCALID:06ff5a77aac48f6bedef36b426650c51
X-WR-TIMEZONE:America/Chicago
BEGIN:VTIMEZONE
TZID:America/Chicago
BEGIN:STANDARD
TZNAME:CST
DTSTART:20301103T020000
TZOFFSETFROM:-0500
TZOFFSETTO:-0600
RDATE:20311102T020000
END:STANDARD
BEGIN:DAYLIGHT
TZNAME:CDT
DTSTART:20310309T020000
TZOFFSETFROM:-0600
TZOFFSETTO:-0500
RDATE:20320314T020000
END:DAYLIGHT
END:VTIMEZONE
BEGIN:VEVENT
UID:8dd5bc2a-5d8c-4cd9-95a9-0f3f31be3ebc
DTSTAMP:20260423T053713Z
DESCRIPTION:Bone Builder Exercise Class
DTSTART;TZID=America/Chicago:20310417T100000
DTEND;TZID=America/Chicago:20310417T110000
LOCATION:Horace Senior Center
SUMMARY:Horace Bone Builders
END:VEVENT
END:VCALENDAR
