BEGIN:VCALENDAR
VERSION:2.0
PRODID:-//communityofcarend.com//NONSGML kigkonsult.se iCalcreator 2.30.10/
 /
CALSCALE:GREGORIAN
METHOD:PUBLISH
UID:f07a5c01-66c4-4180-9554-d39706249e45
X-WR-CALDESC:Low impact exercise class
X-WR-RELCALID:0725db7b6b277dc6c85ef88b07d43e1b
X-WR-TIMEZONE:America/Chicago
BEGIN:VTIMEZONE
TZID:America/Chicago
BEGIN:STANDARD
TZNAME:CST
DTSTART:20301103T020000
TZOFFSETFROM:-0500
TZOFFSETTO:-0600
RDATE:20311102T020000
END:STANDARD
BEGIN:DAYLIGHT
TZNAME:CDT
DTSTART:20310309T020000
TZOFFSETFROM:-0600
TZOFFSETTO:-0500
RDATE:20320314T020000
END:DAYLIGHT
END:VTIMEZONE
BEGIN:VEVENT
UID:5ea0c8c5-9076-434b-a162-41f8ed0e7e3f
DTSTAMP:20260423T053608Z
DESCRIPTION:Low impact exercise class
DTSTART;TZID=America/Chicago:20310414T103000
DTEND;TZID=America/Chicago:20310414T113000
LOCATION:Kindred City Hall
SUMMARY:Kindred Bone Builders
END:VEVENT
END:VCALENDAR
