BEGIN:VCALENDAR
VERSION:2.0
PRODID:-//communityofcarend.com//NONSGML kigkonsult.se iCalcreator 2.30.10/
 /
CALSCALE:GREGORIAN
METHOD:PUBLISH
UID:6d177c3b-24e1-42c8-a5cc-8d3b6cfb5b51
X-WR-CALDESC:Low-impact exercise classes.
X-WR-RELCALID:4ac753f257e10b2d2a0efd9b6d76793a
X-WR-TIMEZONE:America/Chicago
BEGIN:VTIMEZONE
TZID:America/Chicago
BEGIN:STANDARD
TZNAME:CST
DTSTART:20301103T020000
TZOFFSETFROM:-0500
TZOFFSETTO:-0600
RDATE:20311102T020000
END:STANDARD
BEGIN:DAYLIGHT
TZNAME:CDT
DTSTART:20310309T020000
TZOFFSETFROM:-0600
TZOFFSETTO:-0500
RDATE:20320314T020000
END:DAYLIGHT
END:VTIMEZONE
BEGIN:VEVENT
UID:7dd0f86b-e063-479b-b17b-32c6b539e3e9
DTSTAMP:20260423T053448Z
DESCRIPTION:Low-impact exercise classes.
DTSTART;TZID=America/Chicago:20310411T103000
DTEND;TZID=America/Chicago:20310411T113000
LOCATION:Kindred City Hall
SUMMARY:Kindred Bone Builders
END:VEVENT
END:VCALENDAR
