BEGIN:VCALENDAR
VERSION:2.0
PRODID:-//communityofcarend.com//NONSGML kigkonsult.se iCalcreator 2.30.10/
 /
CALSCALE:GREGORIAN
METHOD:PUBLISH
UID:e061a1c4-d8eb-40f3-8e87-051fb87acbfc
X-WR-CALDESC:
X-WR-RELCALID:240136ab6f862caa99d184a59fad5bc4
X-WR-TIMEZONE:America/Chicago
BEGIN:VTIMEZONE
TZID:America/Chicago
BEGIN:STANDARD
TZNAME:CST
DTSTART:20301103T020000
TZOFFSETFROM:-0500
TZOFFSETTO:-0600
RDATE:20311102T020000
END:STANDARD
BEGIN:DAYLIGHT
TZNAME:CDT
DTSTART:20310309T020000
TZOFFSETFROM:-0600
TZOFFSETTO:-0500
RDATE:20320314T020000
END:DAYLIGHT
END:VTIMEZONE
BEGIN:VEVENT
UID:f0069c92-e80c-4005-9e30-b2b44d3df86d
DTSTAMP:20260423T054026Z
DESCRIPTION:
DTSTART;TZID=America/Chicago:20310410T140000
DTEND;TZID=America/Chicago:20310410T150000
LOCATION:Casselton City Hall
SUMMARY:Casselton Bone Builders
END:VEVENT
END:VCALENDAR
