BEGIN:VCALENDAR
VERSION:2.0
PRODID:-//communityofcarend.com//NONSGML kigkonsult.se iCalcreator 2.30.10/
 /
CALSCALE:GREGORIAN
METHOD:PUBLISH
UID:78e7b26c-74cc-45cd-9261-c4b4205c6c76
X-WR-CALDESC:Bone Builder Exercise Class
X-WR-RELCALID:53f542cf151320174bb5b647cefe08f1
X-WR-TIMEZONE:America/Chicago
BEGIN:VTIMEZONE
TZID:America/Chicago
BEGIN:STANDARD
TZNAME:CST
DTSTART:20301103T020000
TZOFFSETFROM:-0500
TZOFFSETTO:-0600
RDATE:20311102T020000
END:STANDARD
BEGIN:DAYLIGHT
TZNAME:CDT
DTSTART:20310309T020000
TZOFFSETFROM:-0600
TZOFFSETTO:-0500
RDATE:20320314T020000
END:DAYLIGHT
END:VTIMEZONE
BEGIN:VEVENT
UID:82f647ad-83f7-436f-adef-e181e5207037
DTSTAMP:20260423T053610Z
DESCRIPTION:Bone Builder Exercise Class
DTSTART;TZID=America/Chicago:20310410T100000
DTEND;TZID=America/Chicago:20310410T110000
LOCATION:Horace Senior Center
SUMMARY:Horace Bone Builders
END:VEVENT
END:VCALENDAR
