BEGIN:VCALENDAR
VERSION:2.0
PRODID:-//communityofcarend.com//NONSGML kigkonsult.se iCalcreator 2.30.10/
 /
CALSCALE:GREGORIAN
METHOD:PUBLISH
UID:b2b43f41-c02c-4f40-a941-259fce20bb3e
X-WR-CALDESC:
X-WR-RELCALID:6d92e854ee8d751b4d0a6c534f3ff38f
X-WR-TIMEZONE:America/Chicago
BEGIN:VTIMEZONE
TZID:America/Chicago
BEGIN:STANDARD
TZNAME:CST
DTSTART:20301103T020000
TZOFFSETFROM:-0500
TZOFFSETTO:-0600
RDATE:20311102T020000
END:STANDARD
BEGIN:DAYLIGHT
TZNAME:CDT
DTSTART:20310309T020000
TZOFFSETFROM:-0600
TZOFFSETTO:-0500
RDATE:20320314T020000
END:DAYLIGHT
END:VTIMEZONE
BEGIN:VEVENT
UID:f5d55313-e593-4c20-bbf0-593ecfa3902e
DTSTAMP:20260423T053810Z
DESCRIPTION:
DTSTART;TZID=America/Chicago:20310410T093000
DTEND;TZID=America/Chicago:20310410T103000
LOCATION:Davenport School
SUMMARY:Davenport Bone Builders
END:VEVENT
END:VCALENDAR
