BEGIN:VCALENDAR
VERSION:2.0
PRODID:-//communityofcarend.com//NONSGML kigkonsult.se iCalcreator 2.30.10/
 /
CALSCALE:GREGORIAN
METHOD:PUBLISH
UID:79ec12b3-cec2-4690-9f58-6fffba5646a7
X-WR-CALDESC:Low impact exercise class
X-WR-RELCALID:0d7730a74f887fdeeb3bb27a15e2f876
X-WR-TIMEZONE:America/Chicago
BEGIN:VTIMEZONE
TZID:America/Chicago
BEGIN:STANDARD
TZNAME:CST
DTSTART:20301103T020000
TZOFFSETFROM:-0500
TZOFFSETTO:-0600
RDATE:20311102T020000
END:STANDARD
BEGIN:DAYLIGHT
TZNAME:CDT
DTSTART:20310309T020000
TZOFFSETFROM:-0600
TZOFFSETTO:-0500
RDATE:20320314T020000
END:DAYLIGHT
END:VTIMEZONE
BEGIN:VEVENT
UID:df33bf10-9fff-4a5a-8c67-16c4b03707bb
DTSTAMP:20260423T041820Z
DESCRIPTION:Low impact exercise class
DTSTART;TZID=America/Chicago:20310331T103000
DTEND;TZID=America/Chicago:20310331T113000
LOCATION:Kindred City Hall
SUMMARY:Kindred Bone Builders
END:VEVENT
END:VCALENDAR
