BEGIN:VCALENDAR
VERSION:2.0
PRODID:-//communityofcarend.com//NONSGML kigkonsult.se iCalcreator 2.30.10/
 /
CALSCALE:GREGORIAN
METHOD:PUBLISH
UID:7eab5a1a-e7fa-449f-8b5b-0072f087e0b5
X-WR-CALDESC:Bone Builder Exercise Class
X-WR-RELCALID:07b90c3df672930c2fef24a6019b7f28
X-WR-TIMEZONE:America/Chicago
BEGIN:VTIMEZONE
TZID:America/Chicago
BEGIN:STANDARD
TZNAME:CST
DTSTART:20301103T020000
TZOFFSETFROM:-0500
TZOFFSETTO:-0600
RDATE:20311102T020000
END:STANDARD
BEGIN:DAYLIGHT
TZNAME:CDT
DTSTART:20310309T020000
TZOFFSETFROM:-0600
TZOFFSETTO:-0500
RDATE:20320314T020000
END:DAYLIGHT
END:VTIMEZONE
BEGIN:VEVENT
UID:7aac1222-1d2e-48f9-99b4-0993d7bd95e8
DTSTAMP:20260423T041449Z
DESCRIPTION:Bone Builder Exercise Class
DTSTART;TZID=America/Chicago:20310331T100000
DTEND;TZID=America/Chicago:20310331T110000
LOCATION:Horace Senior Center
SUMMARY:Horace Bone Builders
END:VEVENT
END:VCALENDAR
