BEGIN:VCALENDAR
VERSION:2.0
PRODID:-//communityofcarend.com//NONSGML kigkonsult.se iCalcreator 2.30.10/
 /
CALSCALE:GREGORIAN
METHOD:PUBLISH
UID:885d937c-4d04-4762-badc-8490d8e0f4d9
X-WR-CALDESC:
X-WR-RELCALID:f8c59b6ecf1fc562d45a589f2e2cf2d1
X-WR-TIMEZONE:America/Chicago
BEGIN:VTIMEZONE
TZID:America/Chicago
BEGIN:STANDARD
TZNAME:CST
DTSTART:20301103T020000
TZOFFSETFROM:-0500
TZOFFSETTO:-0600
RDATE:20311102T020000
END:STANDARD
BEGIN:DAYLIGHT
TZNAME:CDT
DTSTART:20310309T020000
TZOFFSETFROM:-0600
TZOFFSETTO:-0500
RDATE:20320314T020000
END:DAYLIGHT
END:VTIMEZONE
BEGIN:VEVENT
UID:053f19d5-5d79-42cd-9c72-ef197bc2c9cf
DTSTAMP:20260423T042223Z
DESCRIPTION:
DTSTART;TZID=America/Chicago:20310331T093000
DTEND;TZID=America/Chicago:20310331T103000
LOCATION:Davenport School
SUMMARY:Davenport Bone Builders
END:VEVENT
END:VCALENDAR
