BEGIN:VCALENDAR
VERSION:2.0
PRODID:-//communityofcarend.com//NONSGML kigkonsult.se iCalcreator 2.30.10/
 /
CALSCALE:GREGORIAN
METHOD:PUBLISH
UID:f20febf2-bb88-4174-8490-47da82c11149
X-WR-CALDESC:Low-impact exercise classes.
X-WR-RELCALID:7f75ddc3700968733f1a223f0e32ab49
X-WR-TIMEZONE:America/Chicago
BEGIN:VTIMEZONE
TZID:America/Chicago
BEGIN:STANDARD
TZNAME:CST
DTSTART:20301103T020000
TZOFFSETFROM:-0500
TZOFFSETTO:-0600
RDATE:20311102T020000
END:STANDARD
BEGIN:DAYLIGHT
TZNAME:CDT
DTSTART:20310309T020000
TZOFFSETFROM:-0600
TZOFFSETTO:-0500
RDATE:20320314T020000
END:DAYLIGHT
END:VTIMEZONE
BEGIN:VEVENT
UID:9048ef24-65e5-4578-912d-02b8a3f2b274
DTSTAMP:20260423T041846Z
DESCRIPTION:Low-impact exercise classes.
DTSTART;TZID=America/Chicago:20310328T103000
DTEND;TZID=America/Chicago:20310328T113000
LOCATION:Kindred City Hall
SUMMARY:Kindred Bone Builders
END:VEVENT
END:VCALENDAR
