BEGIN:VCALENDAR
VERSION:2.0
PRODID:-//communityofcarend.com//NONSGML kigkonsult.se iCalcreator 2.30.10/
 /
CALSCALE:GREGORIAN
METHOD:PUBLISH
UID:4f0f836d-6cf8-4da4-a154-7ed6587d227f
X-WR-CALDESC:Bone Builder Exercise Class
X-WR-RELCALID:eac37d0f56e3d16338469f59a00109c1
X-WR-TIMEZONE:America/Chicago
BEGIN:VTIMEZONE
TZID:America/Chicago
BEGIN:STANDARD
TZNAME:CST
DTSTART:20301103T020000
TZOFFSETFROM:-0500
TZOFFSETTO:-0600
RDATE:20311102T020000
END:STANDARD
BEGIN:DAYLIGHT
TZNAME:CDT
DTSTART:20310309T020000
TZOFFSETFROM:-0600
TZOFFSETTO:-0500
RDATE:20320314T020000
END:DAYLIGHT
END:VTIMEZONE
BEGIN:VEVENT
UID:4f0f33dd-6e21-4251-aa41-787a9bf3d2be
DTSTAMP:20260423T041845Z
DESCRIPTION:Bone Builder Exercise Class
DTSTART;TZID=America/Chicago:20310313T100000
DTEND;TZID=America/Chicago:20310313T110000
LOCATION:Horace Senior Center
SUMMARY:Horace Bone Builders
END:VEVENT
END:VCALENDAR
