BEGIN:VCALENDAR
VERSION:2.0
PRODID:-//communityofcarend.com//NONSGML kigkonsult.se iCalcreator 2.30.10/
 /
CALSCALE:GREGORIAN
METHOD:PUBLISH
UID:5b56dc1b-5fc9-4037-92c1-3cdc93b10876
X-WR-CALDESC:
X-WR-RELCALID:85ab9f18f7261810ea63a8bbe089ddec
X-WR-TIMEZONE:America/Chicago
BEGIN:VTIMEZONE
TZID:America/Chicago
BEGIN:STANDARD
TZNAME:CST
DTSTART:20301103T020000
TZOFFSETFROM:-0500
TZOFFSETTO:-0600
RDATE:20311102T020000
END:STANDARD
BEGIN:DAYLIGHT
TZNAME:CDT
DTSTART:20310309T020000
TZOFFSETFROM:-0600
TZOFFSETTO:-0500
RDATE:20320314T020000
END:DAYLIGHT
END:VTIMEZONE
BEGIN:VEVENT
UID:37805fb1-9b27-4c3e-93bf-f4fd97c5b118
DTSTAMP:20260423T042351Z
DESCRIPTION:
DTSTART;TZID=America/Chicago:20310313T100000
DTEND;TZID=America/Chicago:20310313T120000
LOCATION:
SUMMARY:C of Care Board Meeting
END:VEVENT
END:VCALENDAR
