BEGIN:VCALENDAR
VERSION:2.0
PRODID:-//communityofcarend.com//NONSGML kigkonsult.se iCalcreator 2.30.10/
 /
CALSCALE:GREGORIAN
METHOD:PUBLISH
UID:2caf8211-b4bf-466b-9a4a-0c40cff31c21
X-WR-CALDESC:Bone Builder Exercise Class
X-WR-RELCALID:7ba710cdb24e5ee5c670661febdcde48
X-WR-TIMEZONE:America/Chicago
BEGIN:VTIMEZONE
TZID:America/Chicago
BEGIN:STANDARD
TZNAME:CST
DTSTART:20301103T020000
TZOFFSETFROM:-0500
TZOFFSETTO:-0600
RDATE:20311102T020000
END:STANDARD
BEGIN:DAYLIGHT
TZNAME:CDT
DTSTART:20300310T020000
TZOFFSETFROM:-0600
TZOFFSETTO:-0500
RDATE:20310309T020000
RDATE:20320314T020000
END:DAYLIGHT
END:VTIMEZONE
BEGIN:VEVENT
UID:1c54a844-239d-4ea1-9973-3170f41eb85a
DTSTAMP:20260423T041402Z
DESCRIPTION:Bone Builder Exercise Class
DTSTART;TZID=America/Chicago:20310310T100000
DTEND;TZID=America/Chicago:20310310T110000
LOCATION:Horace Senior Center
SUMMARY:Horace Bone Builders
END:VEVENT
END:VCALENDAR
