BEGIN:VCALENDAR
VERSION:2.0
PRODID:-//communityofcarend.com//NONSGML kigkonsult.se iCalcreator 2.30.10/
 /
CALSCALE:GREGORIAN
METHOD:PUBLISH
UID:00c921df-d7ff-40cd-b896-82870398a683
X-WR-CALDESC:Bone Builder Exercise Class
X-WR-RELCALID:e285ddb190515e95f0261e832cdb065d
X-WR-TIMEZONE:America/Chicago
BEGIN:VTIMEZONE
TZID:America/Chicago
BEGIN:STANDARD
TZNAME:CST
DTSTART:20301103T020000
TZOFFSETFROM:-0500
TZOFFSETTO:-0600
RDATE:20311102T020000
END:STANDARD
BEGIN:DAYLIGHT
TZNAME:CDT
DTSTART:20300310T020000
TZOFFSETFROM:-0600
TZOFFSETTO:-0500
RDATE:20310309T020000
RDATE:20320314T020000
END:DAYLIGHT
END:VTIMEZONE
BEGIN:VEVENT
UID:062deb2e-71e7-41e9-bce9-afef3eee738f
DTSTAMP:20260423T025217Z
DESCRIPTION:Bone Builder Exercise Class
DTSTART;TZID=America/Chicago:20310227T100000
DTEND;TZID=America/Chicago:20310227T110000
LOCATION:Horace Senior Center
SUMMARY:Horace Bone Builders
END:VEVENT
END:VCALENDAR
