BEGIN:VCALENDAR
VERSION:2.0
PRODID:-//communityofcarend.com//NONSGML kigkonsult.se iCalcreator 2.30.10/
 /
CALSCALE:GREGORIAN
METHOD:PUBLISH
UID:5580f1d2-762d-4bd5-ba4d-8332a987d423
X-WR-CALDESC:Low-impact exercise classes.
X-WR-RELCALID:3ade6703e513e82e5bc4c23760a69c55
X-WR-TIMEZONE:America/Chicago
BEGIN:VTIMEZONE
TZID:America/Chicago
BEGIN:STANDARD
TZNAME:CST
DTSTART:20301103T020000
TZOFFSETFROM:-0500
TZOFFSETTO:-0600
RDATE:20311102T020000
END:STANDARD
BEGIN:DAYLIGHT
TZNAME:CDT
DTSTART:20300310T020000
TZOFFSETFROM:-0600
TZOFFSETTO:-0500
RDATE:20310309T020000
RDATE:20320314T020000
END:DAYLIGHT
END:VTIMEZONE
BEGIN:VEVENT
UID:db204cb9-ef1e-489c-954c-4e497f1484fd
DTSTAMP:20260423T023258Z
DESCRIPTION:Low-impact exercise classes.
DTSTART;TZID=America/Chicago:20310221T103000
DTEND;TZID=America/Chicago:20310221T113000
LOCATION:Kindred City Hall
SUMMARY:Kindred Bone Builders
END:VEVENT
END:VCALENDAR
