BEGIN:VCALENDAR
VERSION:2.0
PRODID:-//communityofcarend.com//NONSGML kigkonsult.se iCalcreator 2.30.10/
 /
CALSCALE:GREGORIAN
METHOD:PUBLISH
UID:2541f8be-0985-42f7-a4ba-aa8534b2e8b4
X-WR-CALDESC:Bone Builder Exercise Class
X-WR-RELCALID:07faa8831e3377a839cc5acf09c2080a
X-WR-TIMEZONE:America/Chicago
BEGIN:VTIMEZONE
TZID:America/Chicago
BEGIN:STANDARD
TZNAME:CST
DTSTART:20301103T020000
TZOFFSETFROM:-0500
TZOFFSETTO:-0600
RDATE:20311102T020000
END:STANDARD
BEGIN:DAYLIGHT
TZNAME:CDT
DTSTART:20300310T020000
TZOFFSETFROM:-0600
TZOFFSETTO:-0500
RDATE:20310309T020000
RDATE:20320314T020000
END:DAYLIGHT
END:VTIMEZONE
BEGIN:VEVENT
UID:5a0c6931-6305-49af-aa01-18712f34eada
DTSTAMP:20260423T024343Z
DESCRIPTION:Bone Builder Exercise Class
DTSTART;TZID=America/Chicago:20310220T100000
DTEND;TZID=America/Chicago:20310220T110000
LOCATION:Horace Senior Center
SUMMARY:Horace Bone Builders
END:VEVENT
END:VCALENDAR
