BEGIN:VCALENDAR
VERSION:2.0
PRODID:-//communityofcarend.com//NONSGML kigkonsult.se iCalcreator 2.30.10/
 /
CALSCALE:GREGORIAN
METHOD:PUBLISH
UID:b015ebc9-3043-4d15-9b12-d9e54e2ad9dd
X-WR-CALDESC:Bone Builder Exercise Class
X-WR-RELCALID:aec39cb2bd91cc1b28be9d3e96488cfe
X-WR-TIMEZONE:America/Chicago
BEGIN:VTIMEZONE
TZID:America/Chicago
BEGIN:STANDARD
TZNAME:CST
DTSTART:20301103T020000
TZOFFSETFROM:-0500
TZOFFSETTO:-0600
RDATE:20311102T020000
END:STANDARD
BEGIN:DAYLIGHT
TZNAME:CDT
DTSTART:20300310T020000
TZOFFSETFROM:-0600
TZOFFSETTO:-0500
RDATE:20310309T020000
RDATE:20320314T020000
END:DAYLIGHT
END:VTIMEZONE
BEGIN:VEVENT
UID:1c81ddbd-1621-4bd0-9807-b32ea49fa188
DTSTAMP:20260423T024709Z
DESCRIPTION:Bone Builder Exercise Class
DTSTART;TZID=America/Chicago:20310217T100000
DTEND;TZID=America/Chicago:20310217T110000
LOCATION:Horace Senior Center
SUMMARY:Horace Bone Builders
END:VEVENT
END:VCALENDAR
