BEGIN:VCALENDAR
VERSION:2.0
PRODID:-//communityofcarend.com//NONSGML kigkonsult.se iCalcreator 2.30.10/
 /
CALSCALE:GREGORIAN
METHOD:PUBLISH
UID:1b9ee99e-b419-4480-83df-d5ff58e983cc
X-WR-CALDESC:Bone Builder Exercise Class
X-WR-RELCALID:2ddad109e837c424bde5273102996898
X-WR-TIMEZONE:America/Chicago
BEGIN:VTIMEZONE
TZID:America/Chicago
BEGIN:STANDARD
TZNAME:CST
DTSTART:20301103T020000
TZOFFSETFROM:-0500
TZOFFSETTO:-0600
RDATE:20311102T020000
END:STANDARD
BEGIN:DAYLIGHT
TZNAME:CDT
DTSTART:20300310T020000
TZOFFSETFROM:-0600
TZOFFSETTO:-0500
RDATE:20310309T020000
RDATE:20320314T020000
END:DAYLIGHT
END:VTIMEZONE
BEGIN:VEVENT
UID:6095f3c1-79c0-48f7-b5d2-4f07885e9d3a
DTSTAMP:20260423T025405Z
DESCRIPTION:Bone Builder Exercise Class
DTSTART;TZID=America/Chicago:20310210T100000
DTEND;TZID=America/Chicago:20310210T110000
LOCATION:Horace Senior Center
SUMMARY:Horace Bone Builders
END:VEVENT
END:VCALENDAR
