BEGIN:VCALENDAR
VERSION:2.0
PRODID:-//communityofcarend.com//NONSGML kigkonsult.se iCalcreator 2.30.10/
 /
CALSCALE:GREGORIAN
METHOD:PUBLISH
UID:85fe2a14-219c-4ba3-99a4-774193d08538
X-WR-CALDESC:Low-impact exercise classes.
X-WR-RELCALID:3e4a7212adb1b9ebddec23fa8eb8bdbd
X-WR-TIMEZONE:America/Chicago
BEGIN:VTIMEZONE
TZID:America/Chicago
BEGIN:STANDARD
TZNAME:CST
DTSTART:20301103T020000
TZOFFSETFROM:-0500
TZOFFSETTO:-0600
RDATE:20311102T020000
END:STANDARD
BEGIN:DAYLIGHT
TZNAME:CDT
DTSTART:20300310T020000
TZOFFSETFROM:-0600
TZOFFSETTO:-0500
RDATE:20310309T020000
RDATE:20320314T020000
END:DAYLIGHT
END:VTIMEZONE
BEGIN:VEVENT
UID:57cbbd53-60db-43a5-ace1-fb3b0193f5d7
DTSTAMP:20260423T023938Z
DESCRIPTION:Low-impact exercise classes.
DTSTART;TZID=America/Chicago:20310207T103000
DTEND;TZID=America/Chicago:20310207T113000
LOCATION:Kindred City Hall
SUMMARY:Kindred Bone Builders
END:VEVENT
END:VCALENDAR
