BEGIN:VCALENDAR
VERSION:2.0
PRODID:-//communityofcarend.com//NONSGML kigkonsult.se iCalcreator 2.30.10/
 /
CALSCALE:GREGORIAN
METHOD:PUBLISH
UID:1f5506f1-1542-43c9-a33f-47fb6e231b75
X-WR-CALDESC:Low impact exercise class
X-WR-RELCALID:2703d4a11518d6f5626e856228c57943
X-WR-TIMEZONE:America/Chicago
BEGIN:VTIMEZONE
TZID:America/Chicago
BEGIN:STANDARD
TZNAME:CST
DTSTART:20301103T020000
TZOFFSETFROM:-0500
TZOFFSETTO:-0600
RDATE:20311102T020000
END:STANDARD
BEGIN:DAYLIGHT
TZNAME:CDT
DTSTART:20300310T020000
TZOFFSETFROM:-0600
TZOFFSETTO:-0500
RDATE:20310309T020000
RDATE:20320314T020000
END:DAYLIGHT
END:VTIMEZONE
BEGIN:VEVENT
UID:3bc79a7f-5ecc-406b-8d4e-ab90a357e085
DTSTAMP:20260423T024942Z
DESCRIPTION:Low impact exercise class
DTSTART;TZID=America/Chicago:20310203T103000
DTEND;TZID=America/Chicago:20310203T113000
LOCATION:Kindred City Hall
SUMMARY:Kindred Bone Builders
END:VEVENT
END:VCALENDAR
