BEGIN:VCALENDAR
VERSION:2.0
PRODID:-//communityofcarend.com//NONSGML kigkonsult.se iCalcreator 2.30.10/
 /
CALSCALE:GREGORIAN
METHOD:PUBLISH
UID:83890af1-f913-4eae-bc60-a3175d9d84e6
X-WR-CALDESC:Low-impact exercise classes.
X-WR-RELCALID:fb5abfc2f0d8dfaf912de4293acb0b45
X-WR-TIMEZONE:America/Chicago
BEGIN:VTIMEZONE
TZID:America/Chicago
BEGIN:STANDARD
TZNAME:CST
DTSTART:20301103T020000
TZOFFSETFROM:-0500
TZOFFSETTO:-0600
RDATE:20311102T020000
END:STANDARD
BEGIN:DAYLIGHT
TZNAME:CDT
DTSTART:20300310T020000
TZOFFSETFROM:-0600
TZOFFSETTO:-0500
RDATE:20310309T020000
RDATE:20320314T020000
END:DAYLIGHT
END:VTIMEZONE
BEGIN:VEVENT
UID:5114aa63-496c-490d-8a74-57ccd072c919
DTSTAMP:20260423T011001Z
DESCRIPTION:Low-impact exercise classes.
DTSTART;TZID=America/Chicago:20310131T103000
DTEND;TZID=America/Chicago:20310131T113000
LOCATION:Kindred City Hall
SUMMARY:Kindred Bone Builders
END:VEVENT
END:VCALENDAR
