BEGIN:VCALENDAR
VERSION:2.0
PRODID:-//communityofcarend.com//NONSGML kigkonsult.se iCalcreator 2.30.10/
 /
CALSCALE:GREGORIAN
METHOD:PUBLISH
UID:e8dcc438-8b78-4ecf-ab09-852b87c99b27
X-WR-CALDESC:Low-impact exercise classes.
X-WR-RELCALID:08071f524e306d092c0555521c8a7be8
X-WR-TIMEZONE:America/Chicago
BEGIN:VTIMEZONE
TZID:America/Chicago
BEGIN:STANDARD
TZNAME:CST
DTSTART:20301103T020000
TZOFFSETFROM:-0500
TZOFFSETTO:-0600
RDATE:20311102T020000
END:STANDARD
BEGIN:DAYLIGHT
TZNAME:CDT
DTSTART:20300310T020000
TZOFFSETFROM:-0600
TZOFFSETTO:-0500
RDATE:20310309T020000
RDATE:20320314T020000
END:DAYLIGHT
END:VTIMEZONE
BEGIN:VEVENT
UID:822b2d29-b49e-4ada-b181-1d51da200ffe
DTSTAMP:20260423T011034Z
DESCRIPTION:Low-impact exercise classes.
DTSTART;TZID=America/Chicago:20310124T103000
DTEND;TZID=America/Chicago:20310124T113000
LOCATION:Kindred City Hall
SUMMARY:Kindred Bone Builders
END:VEVENT
END:VCALENDAR
