BEGIN:VCALENDAR
VERSION:2.0
PRODID:-//communityofcarend.com//NONSGML kigkonsult.se iCalcreator 2.30.10/
 /
CALSCALE:GREGORIAN
METHOD:PUBLISH
UID:ca8f46cc-a230-4987-8c1c-93dd7eb17aa9
X-WR-CALDESC:Bone Builder Exercise Class
X-WR-RELCALID:afe63bb6584e1b3b99cd395c745816a8
X-WR-TIMEZONE:America/Chicago
BEGIN:VTIMEZONE
TZID:America/Chicago
BEGIN:STANDARD
TZNAME:CST
DTSTART:20301103T020000
TZOFFSETFROM:-0500
TZOFFSETTO:-0600
RDATE:20311102T020000
END:STANDARD
BEGIN:DAYLIGHT
TZNAME:CDT
DTSTART:20300310T020000
TZOFFSETFROM:-0600
TZOFFSETTO:-0500
RDATE:20310309T020000
RDATE:20320314T020000
END:DAYLIGHT
END:VTIMEZONE
BEGIN:VEVENT
UID:0115118c-3023-44f0-82b2-3514873221b9
DTSTAMP:20260423T011153Z
DESCRIPTION:Bone Builder Exercise Class
DTSTART;TZID=America/Chicago:20310123T100000
DTEND;TZID=America/Chicago:20310123T110000
LOCATION:Horace Senior Center
SUMMARY:Horace Bone Builders
END:VEVENT
END:VCALENDAR
