BEGIN:VCALENDAR
VERSION:2.0
PRODID:-//communityofcarend.com//NONSGML kigkonsult.se iCalcreator 2.30.10/
 /
CALSCALE:GREGORIAN
METHOD:PUBLISH
UID:54b3344e-b6c6-404e-84b8-8577ab203b1b
X-WR-CALDESC:
X-WR-RELCALID:ce1b9f0e64ed7ebe00044b482eecd417
X-WR-TIMEZONE:America/Chicago
BEGIN:VTIMEZONE
TZID:America/Chicago
BEGIN:STANDARD
TZNAME:CST
DTSTART:20301103T020000
TZOFFSETFROM:-0500
TZOFFSETTO:-0600
RDATE:20311102T020000
END:STANDARD
BEGIN:DAYLIGHT
TZNAME:CDT
DTSTART:20300310T020000
TZOFFSETFROM:-0600
TZOFFSETTO:-0500
RDATE:20310309T020000
RDATE:20320314T020000
END:DAYLIGHT
END:VTIMEZONE
BEGIN:VEVENT
UID:8e44fcf9-45ef-4441-8cc8-d86302ffa697
DTSTAMP:20260423T010125Z
DESCRIPTION:
DTSTART;TZID=America/Chicago:20310121T140000
DTEND;TZID=America/Chicago:20310121T150000
LOCATION:Casselton City Hall
SUMMARY:Casselton Bone Builders
END:VEVENT
END:VCALENDAR
