BEGIN:VCALENDAR
VERSION:2.0
PRODID:-//communityofcarend.com//NONSGML kigkonsult.se iCalcreator 2.30.10/
 /
CALSCALE:GREGORIAN
METHOD:PUBLISH
UID:9660614e-4d9f-466e-a3b2-847f94f82050
X-WR-CALDESC:Low impact exercise class
X-WR-RELCALID:0c317f5c43514f095b44e0da1d6f5308
X-WR-TIMEZONE:America/Chicago
BEGIN:VTIMEZONE
TZID:America/Chicago
BEGIN:STANDARD
TZNAME:CST
DTSTART:20301103T020000
TZOFFSETFROM:-0500
TZOFFSETTO:-0600
RDATE:20311102T020000
END:STANDARD
BEGIN:DAYLIGHT
TZNAME:CDT
DTSTART:20300310T020000
TZOFFSETFROM:-0600
TZOFFSETTO:-0500
RDATE:20310309T020000
RDATE:20320314T020000
END:DAYLIGHT
END:VTIMEZONE
BEGIN:VEVENT
UID:29bd8e78-71a9-4408-a083-fb7dd63cfc59
DTSTAMP:20260423T010837Z
DESCRIPTION:Low impact exercise class
DTSTART;TZID=America/Chicago:20310120T103000
DTEND;TZID=America/Chicago:20310120T113000
LOCATION:Kindred City Hall
SUMMARY:Kindred Bone Builders
END:VEVENT
END:VCALENDAR
