BEGIN:VCALENDAR
VERSION:2.0
PRODID:-//communityofcarend.com//NONSGML kigkonsult.se iCalcreator 2.30.10/
 /
CALSCALE:GREGORIAN
METHOD:PUBLISH
UID:e074c812-a9aa-4c73-b8b7-60821e028d31
X-WR-CALDESC:Low impact exercise class
X-WR-RELCALID:9194bf6db8d79149f9c3fe8fc7258212
X-WR-TIMEZONE:America/Chicago
BEGIN:VTIMEZONE
TZID:America/Chicago
BEGIN:STANDARD
TZNAME:CST
DTSTART:20301103T020000
TZOFFSETFROM:-0500
TZOFFSETTO:-0600
RDATE:20311102T020000
END:STANDARD
BEGIN:DAYLIGHT
TZNAME:CDT
DTSTART:20300310T020000
TZOFFSETFROM:-0600
TZOFFSETTO:-0500
RDATE:20310309T020000
RDATE:20320314T020000
END:DAYLIGHT
END:VTIMEZONE
BEGIN:VEVENT
UID:a9253dea-0f26-4fca-95a4-af53891774f8
DTSTAMP:20260423T005917Z
DESCRIPTION:Low impact exercise class
DTSTART;TZID=America/Chicago:20310106T103000
DTEND;TZID=America/Chicago:20310106T113000
LOCATION:Kindred City Hall
SUMMARY:Kindred Bone Builders
END:VEVENT
END:VCALENDAR
