BEGIN:VCALENDAR
VERSION:2.0
PRODID:-//communityofcarend.com//NONSGML kigkonsult.se iCalcreator 2.30.10/
 /
CALSCALE:GREGORIAN
METHOD:PUBLISH
UID:b662a3fd-dfc3-48af-84de-5de628c86b22
X-WR-CALDESC:Bone Builder Exercise Class
X-WR-RELCALID:b2fab51212e90814b1fcceaf2691c489
X-WR-TIMEZONE:America/Chicago
BEGIN:VTIMEZONE
TZID:America/Chicago
BEGIN:STANDARD
TZNAME:CST
DTSTART:20301103T020000
TZOFFSETFROM:-0500
TZOFFSETTO:-0600
RDATE:20311102T020000
END:STANDARD
BEGIN:DAYLIGHT
TZNAME:CDT
DTSTART:20300310T020000
TZOFFSETFROM:-0600
TZOFFSETTO:-0500
RDATE:20310309T020000
RDATE:20320314T020000
END:DAYLIGHT
END:VTIMEZONE
BEGIN:VEVENT
UID:a813626c-d123-462c-a780-a5eb361516de
DTSTAMP:20260423T010828Z
DESCRIPTION:Bone Builder Exercise Class
DTSTART;TZID=America/Chicago:20310106T100000
DTEND;TZID=America/Chicago:20310106T110000
LOCATION:Horace Senior Center
SUMMARY:Horace Bone Builders
END:VEVENT
END:VCALENDAR
