BEGIN:VCALENDAR
VERSION:2.0
PRODID:-//communityofcarend.com//NONSGML kigkonsult.se iCalcreator 2.30.10/
 /
CALSCALE:GREGORIAN
METHOD:PUBLISH
UID:370941ca-1f2f-4263-8e5a-5d34538d2815
X-WR-CALDESC:
X-WR-RELCALID:4afe89c51373ebdbc2e1050808e5dba2
X-WR-TIMEZONE:America/Chicago
BEGIN:VTIMEZONE
TZID:America/Chicago
BEGIN:STANDARD
TZNAME:CST
DTSTART:20301103T020000
TZOFFSETFROM:-0500
TZOFFSETTO:-0600
RDATE:20311102T020000
END:STANDARD
BEGIN:DAYLIGHT
TZNAME:CDT
DTSTART:20300310T020000
TZOFFSETFROM:-0600
TZOFFSETTO:-0500
RDATE:20310309T020000
RDATE:20320314T020000
END:DAYLIGHT
END:VTIMEZONE
BEGIN:VEVENT
UID:098c1303-d0a8-4b27-92f9-d65ac2c7e470
DTSTAMP:20260422T232507Z
DESCRIPTION:
DTSTART;TZID=America/Chicago:20301223T094500
DTEND;TZID=America/Chicago:20301223T104500
LOCATION:Arthur United Methodist Church
SUMMARY:Arthur Bone Builders
END:VEVENT
END:VCALENDAR
