BEGIN:VCALENDAR
VERSION:2.0
PRODID:-//communityofcarend.com//NONSGML kigkonsult.se iCalcreator 2.30.10/
 /
CALSCALE:GREGORIAN
METHOD:PUBLISH
UID:ec9a4de7-5e49-4c41-b802-6a5e48fc581e
X-WR-CALDESC:Bone Builder Exercise Class
X-WR-RELCALID:667fa562b577cd025bf56519c61e1fe4
X-WR-TIMEZONE:America/Chicago
BEGIN:VTIMEZONE
TZID:America/Chicago
BEGIN:STANDARD
TZNAME:CST
DTSTART:20301103T020000
TZOFFSETFROM:-0500
TZOFFSETTO:-0600
RDATE:20311102T020000
END:STANDARD
BEGIN:DAYLIGHT
TZNAME:CDT
DTSTART:20300310T020000
TZOFFSETFROM:-0600
TZOFFSETTO:-0500
RDATE:20310309T020000
RDATE:20320314T020000
END:DAYLIGHT
END:VTIMEZONE
BEGIN:VEVENT
UID:7f8cc163-bfcb-4bfa-a79e-d36ff000ec93
DTSTAMP:20260422T232646Z
DESCRIPTION:Bone Builder Exercise Class
DTSTART;TZID=America/Chicago:20301216T100000
DTEND;TZID=America/Chicago:20301216T110000
LOCATION:Horace Senior Center
SUMMARY:Horace Bone Builders
END:VEVENT
END:VCALENDAR
