BEGIN:VCALENDAR
VERSION:2.0
PRODID:-//communityofcarend.com//NONSGML kigkonsult.se iCalcreator 2.30.10/
 /
CALSCALE:GREGORIAN
METHOD:PUBLISH
UID:2d7d6ac5-b19d-4958-afcb-c083fe793682
X-WR-CALDESC:Low-impact exercise classes.
X-WR-RELCALID:c465e83923fd00f6848d8da4cd99bca9
X-WR-TIMEZONE:America/Chicago
BEGIN:VTIMEZONE
TZID:America/Chicago
BEGIN:STANDARD
TZNAME:CST
DTSTART:20301103T020000
TZOFFSETFROM:-0500
TZOFFSETTO:-0600
RDATE:20311102T020000
END:STANDARD
BEGIN:DAYLIGHT
TZNAME:CDT
DTSTART:20300310T020000
TZOFFSETFROM:-0600
TZOFFSETTO:-0500
RDATE:20310309T020000
RDATE:20320314T020000
END:DAYLIGHT
END:VTIMEZONE
BEGIN:VEVENT
UID:2f0cc8d6-db18-40d2-83be-2a05d46b4d4b
DTSTAMP:20260422T232422Z
DESCRIPTION:Low-impact exercise classes.
DTSTART;TZID=America/Chicago:20301213T103000
DTEND;TZID=America/Chicago:20301213T113000
LOCATION:Kindred City Hall
SUMMARY:Kindred Bone Builders
END:VEVENT
END:VCALENDAR
