BEGIN:VCALENDAR
VERSION:2.0
PRODID:-//communityofcarend.com//NONSGML kigkonsult.se iCalcreator 2.30.10/
 /
CALSCALE:GREGORIAN
METHOD:PUBLISH
UID:aafe9796-0237-498b-ad21-c827f7244d76
X-WR-CALDESC:Low-impact exercise classes.
X-WR-RELCALID:bbcb9b3c150c1c122dbeb36b68c88bb8
X-WR-TIMEZONE:America/Chicago
BEGIN:VTIMEZONE
TZID:America/Chicago
BEGIN:STANDARD
TZNAME:CST
DTSTART:20301103T020000
TZOFFSETFROM:-0500
TZOFFSETTO:-0600
RDATE:20311102T020000
END:STANDARD
BEGIN:DAYLIGHT
TZNAME:CDT
DTSTART:20300310T020000
TZOFFSETFROM:-0600
TZOFFSETTO:-0500
RDATE:20310309T020000
RDATE:20320314T020000
END:DAYLIGHT
END:VTIMEZONE
BEGIN:VEVENT
UID:5223951b-1227-4d3a-bfd8-6325500874c6
DTSTAMP:20260422T232347Z
DESCRIPTION:Low-impact exercise classes.
DTSTART;TZID=America/Chicago:20301206T103000
DTEND;TZID=America/Chicago:20301206T113000
LOCATION:Kindred City Hall
SUMMARY:Kindred Bone Builders
END:VEVENT
END:VCALENDAR
