BEGIN:VCALENDAR
VERSION:2.0
PRODID:-//communityofcarend.com//NONSGML kigkonsult.se iCalcreator 2.30.10/
 /
CALSCALE:GREGORIAN
METHOD:PUBLISH
UID:d1dc0581-d282-460e-ad2a-d2bd03fd6a2f
X-WR-CALDESC:Bone Builder Exercise Class
X-WR-RELCALID:b74bf66d2c602168bfd16da2ddad3bfd
X-WR-TIMEZONE:America/Chicago
BEGIN:VTIMEZONE
TZID:America/Chicago
BEGIN:STANDARD
TZNAME:CST
DTSTART:20301103T020000
TZOFFSETFROM:-0500
TZOFFSETTO:-0600
RDATE:20311102T020000
END:STANDARD
BEGIN:DAYLIGHT
TZNAME:CDT
DTSTART:20300310T020000
TZOFFSETFROM:-0600
TZOFFSETTO:-0500
RDATE:20310309T020000
RDATE:20320314T020000
END:DAYLIGHT
END:VTIMEZONE
BEGIN:VEVENT
UID:f6f008bf-797e-4a43-baf0-f5d87591e92d
DTSTAMP:20260422T232724Z
DESCRIPTION:Bone Builder Exercise Class
DTSTART;TZID=America/Chicago:20301202T100000
DTEND;TZID=America/Chicago:20301202T110000
LOCATION:Horace Senior Center
SUMMARY:Horace Bone Builders
END:VEVENT
END:VCALENDAR
