BEGIN:VCALENDAR
VERSION:2.0
PRODID:-//communityofcarend.com//NONSGML kigkonsult.se iCalcreator 2.30.10/
 /
CALSCALE:GREGORIAN
METHOD:PUBLISH
UID:55dd4b5a-8826-4f68-a346-6e8fad8899b6
X-WR-CALDESC:Low-impact exercise classes.
X-WR-RELCALID:e529cdb190fb01d8c2d7b6dbc283fb66
X-WR-TIMEZONE:America/Chicago
BEGIN:VTIMEZONE
TZID:America/Chicago
BEGIN:STANDARD
TZNAME:CST
DTSTART:20301103T020000
TZOFFSETFROM:-0500
TZOFFSETTO:-0600
RDATE:20311102T020000
END:STANDARD
BEGIN:DAYLIGHT
TZNAME:CDT
DTSTART:20300310T020000
TZOFFSETFROM:-0600
TZOFFSETTO:-0500
RDATE:20310309T020000
RDATE:20320314T020000
END:DAYLIGHT
END:VTIMEZONE
BEGIN:VEVENT
UID:cee55d27-08ef-4128-bff5-1eeb72fe73f3
DTSTAMP:20260422T221404Z
DESCRIPTION:Low-impact exercise classes.
DTSTART;TZID=America/Chicago:20301129T103000
DTEND;TZID=America/Chicago:20301129T113000
LOCATION:Kindred City Hall
SUMMARY:Kindred Bone Builders
END:VEVENT
END:VCALENDAR
