BEGIN:VCALENDAR
VERSION:2.0
PRODID:-//communityofcarend.com//NONSGML kigkonsult.se iCalcreator 2.30.10/
 /
CALSCALE:GREGORIAN
METHOD:PUBLISH
UID:439c5f94-1930-4a82-bb44-8ab5a1026011
X-WR-CALDESC:Bone Builder Exercise Class
X-WR-RELCALID:77d1376b481d4f41d1e9de134591da5e
X-WR-TIMEZONE:America/Chicago
BEGIN:VTIMEZONE
TZID:America/Chicago
BEGIN:STANDARD
TZNAME:CST
DTSTART:20301103T020000
TZOFFSETFROM:-0500
TZOFFSETTO:-0600
RDATE:20311102T020000
END:STANDARD
BEGIN:DAYLIGHT
TZNAME:CDT
DTSTART:20300310T020000
TZOFFSETFROM:-0600
TZOFFSETTO:-0500
RDATE:20310309T020000
RDATE:20320314T020000
END:DAYLIGHT
END:VTIMEZONE
BEGIN:VEVENT
UID:bcd6143a-027c-47cd-9acb-6b8a1723f468
DTSTAMP:20260422T221532Z
DESCRIPTION:Bone Builder Exercise Class
DTSTART;TZID=America/Chicago:20301125T100000
DTEND;TZID=America/Chicago:20301125T110000
LOCATION:Horace Senior Center
SUMMARY:Horace Bone Builders
END:VEVENT
END:VCALENDAR
